BEGIN:VCALENDAR
VERSION:2.0
PRODID:-// - ECPv6.0.11//NONSGML v1.0//EN
CALSCALE:GREGORIAN
METHOD:PUBLISH
X-ORIGINAL-URL:https://rangdrolling.nl
X-WR-CALDESC:Events for 
REFRESH-INTERVAL;VALUE=DURATION:PT1H
X-Robots-Tag:noindex
X-PUBLISHED-TTL:PT1H
BEGIN:VTIMEZONE
TZID:Europe/Amsterdam
BEGIN:DAYLIGHT
TZOFFSETFROM:+0100
TZOFFSETTO:+0200
TZNAME:CEST
DTSTART:20180325T010000
END:DAYLIGHT
BEGIN:STANDARD
TZOFFSETFROM:+0200
TZOFFSETTO:+0100
TZNAME:CET
DTSTART:20181028T010000
END:STANDARD
END:VTIMEZONE
BEGIN:VEVENT
DTSTART;TZID=Europe/Amsterdam:20180708T180000
DTEND;TZID=Europe/Amsterdam:20180708T190000
DTSTAMP:20260422T154309
CREATED:20180707T103015Z
LAST-MODIFIED:20180707T103015Z
UID:1301-1531072800-1531076400@rangdrolling.nl
SUMMARY:Dakini dag Ganapuja
DESCRIPTION:ling open: 17.30 uur\nstart: 18.00 uur
URL:https://rangdrolling.nl/event/dakini-dag-ganapuja-6/
LOCATION:Randrolling\, Overbrakerpad 2\, Amsterdam\, 1014 AZ
CATEGORIES:Ganapuja
END:VEVENT
BEGIN:VEVENT
DTSTART;TZID=Europe/Amsterdam:20180713T190000
DTEND;TZID=Europe/Amsterdam:20180713T200000
DTSTAMP:20260422T154309
CREATED:20180707T102120Z
LAST-MODIFIED:20180710T190634Z
UID:1297-1531508400-1531512000@rangdrolling.nl
SUMMARY:Nieuw maan Ganapuja met Jigmed Lingpa recitatie
DESCRIPTION:ling open: 18.00 uur\nstart: 18.30 uur \njigmed lingpa recitatie van 19.00- 20.00 uur
URL:https://rangdrolling.nl/event/dakini-dag-ganapuja-5/
LOCATION:Randrolling\, Overbrakerpad 2\, Amsterdam\, 1014 AZ
CATEGORIES:Gezamenlijke beoefening
END:VEVENT
BEGIN:VEVENT
DTSTART;TZID=Europe/Amsterdam:20180714T093000
DTEND;TZID=Europe/Amsterdam:20180714T123000
DTSTAMP:20260422T154309
CREATED:20180716T142708Z
LAST-MODIFIED:20180716T142736Z
UID:1333-1531560600-1531571400@rangdrolling.nl
SUMMARY:Vajra Dance
DESCRIPTION:Tijd: 9.30 – 12.30 uur\nLocatie: Broedplaats HW10
URL:https://rangdrolling.nl/event/vajra-dance-2-copy/
LOCATION:Broedplaats HW10\, Hendrik van Wijnstraat 10\, Amsterdam\, Nederland
CATEGORIES:Vajra Dans
END:VEVENT
BEGIN:VEVENT
DTSTART;TZID=Europe/Amsterdam:20180715T133000
DTEND;TZID=Europe/Amsterdam:20180715T143000
DTSTAMP:20260422T154309
CREATED:20180707T103131Z
LAST-MODIFIED:20180707T103131Z
UID:1303-1531661400-1531665000@rangdrolling.nl
SUMMARY:Uitleg WWT Guruyoga in Rangdrolling
DESCRIPTION:ling open: 13.30 uur\nstart 14.00 uur
URL:https://rangdrolling.nl/event/uitleg-wwt-guruyoga-in-rangdrolling/
CATEGORIES:Gezamenlijke beoefening
END:VEVENT
BEGIN:VEVENT
DTSTART;TZID=Europe/Amsterdam:20180716T190000
DTEND;TZID=Europe/Amsterdam:20180716T200000
DTSTAMP:20260422T154309
CREATED:20180707T103250Z
LAST-MODIFIED:20180707T103250Z
UID:1305-1531767600-1531771200@rangdrolling.nl
SUMMARY:"Viering Dharmachakra" Ganapuja
DESCRIPTION:ling open: 18.30 uur\nstart: 19.00 uur
URL:https://rangdrolling.nl/event/viering-dharmachakra-ganapuja/
LOCATION:Randrolling\, Overbrakerpad 2\, Amsterdam\, 1014 AZ
CATEGORIES:Ganapuja
END:VEVENT
BEGIN:VEVENT
DTSTART;TZID=Europe/Amsterdam:20180717T190000
DTEND;TZID=Europe/Amsterdam:20180717T203000
DTSTAMP:20260422T154309
CREATED:20180710T190801Z
LAST-MODIFIED:20180710T190801Z
UID:1316-1531854000-1531859400@rangdrolling.nl
SUMMARY:Yantra Yoga
DESCRIPTION:ling open: 18.30 uur\nstart Yantra 19.00 uur
URL:https://rangdrolling.nl/event/yantra-yoga-3/
LOCATION:Randrolling\, Overbrakerpad 2\, Amsterdam\, 1014 AZ
CATEGORIES:Yantra Yoga
END:VEVENT
BEGIN:VEVENT
DTSTART;TZID=Europe/Amsterdam:20180721T093000
DTEND;TZID=Europe/Amsterdam:20180721T123000
DTSTAMP:20260422T154309
CREATED:20180716T142658Z
LAST-MODIFIED:20180716T142658Z
UID:1331-1532165400-1532176200@rangdrolling.nl
SUMMARY:Vajra Dance
DESCRIPTION:Tijd: 9.30 – 12.30 uur\nLocatie: Broedplaats HW10
URL:https://rangdrolling.nl/event/vajra-dance-2/
LOCATION:Broedplaats HW10\, Hendrik van Wijnstraat 10\, Amsterdam\, Nederland
CATEGORIES:Vajra Dans
END:VEVENT
BEGIN:VEVENT
DTSTART;TZID=Europe/Amsterdam:20180722T190000
DTEND;TZID=Europe/Amsterdam:20180722T193000
DTSTAMP:20260422T154309
CREATED:20180707T103642Z
LAST-MODIFIED:20180707T103642Z
UID:1309-1532286000-1532287800@rangdrolling.nl
SUMMARY:Guru Rinpoche Ganapuja
DESCRIPTION:we kunnen het combineren met nog een practise wie o wie\nwil wat?
URL:https://rangdrolling.nl/event/guru-rinpoche-ganapuja-4/
CATEGORIES:Ganapuja
END:VEVENT
BEGIN:VEVENT
DTSTART;TZID=Europe/Amsterdam:20180724T190000
DTEND;TZID=Europe/Amsterdam:20180724T210000
DTSTAMP:20260422T154309
CREATED:20180707T103838Z
LAST-MODIFIED:20180707T103838Z
UID:1311-1532458800-1532466000@rangdrolling.nl
SUMMARY:Yantra Yoga
DESCRIPTION:ling open: 18.30 uur\nstart Yantra: 19.00 uur
URL:https://rangdrolling.nl/event/yantra-yoga-2/
LOCATION:Randrolling\, Overbrakerpad 2\, Amsterdam\, 1014 AZ
CATEGORIES:Yantra Yoga
END:VEVENT
BEGIN:VEVENT
DTSTART;VALUE=DATE:20180727
DTEND;VALUE=DATE:20180801
DTSTAMP:20260422T154309
CREATED:20180315T165254Z
LAST-MODIFIED:20181001T182935Z
UID:1196-1532649600-1533081599@rangdrolling.nl
SUMMARY:Chöd Retreat with Steven Landsberg
DESCRIPTION:
URL:https://rangdrolling.nl/event/chod-retreat-with-steven-landsberg/
LOCATION:Randrolling\, Overbrakerpad 2\, Amsterdam\, 1014 AZ
CATEGORIES:Rangdrolling retreat
END:VEVENT
BEGIN:VEVENT
DTSTART;TZID=Europe/Amsterdam:20180727T190000
DTEND;TZID=Europe/Amsterdam:20180727T210000
DTSTAMP:20260422T154309
CREATED:20180707T104830Z
LAST-MODIFIED:20180707T104830Z
UID:1313-1532718000-1532725200@rangdrolling.nl
SUMMARY:Volle Maan Ganapuja met Steve Landsberg
DESCRIPTION:Total lunar eclipse en de start van onze Chod retraite met Steve\nLandsberg!
URL:https://rangdrolling.nl/event/volle-maan-ganapuja-met-steve-landsberg/
LOCATION:Randrolling\, Overbrakerpad 2\, Amsterdam\, 1014 AZ
CATEGORIES:Ganapuja
END:VEVENT
END:VCALENDAR