BEGIN:VCALENDAR
VERSION:2.0
PRODID:-// - ECPv6.0.11//NONSGML v1.0//EN
CALSCALE:GREGORIAN
METHOD:PUBLISH
X-ORIGINAL-URL:https://rangdrolling.nl
X-WR-CALDESC:Events for 
REFRESH-INTERVAL;VALUE=DURATION:PT1H
X-Robots-Tag:noindex
X-PUBLISHED-TTL:PT1H
BEGIN:VTIMEZONE
TZID:Europe/Amsterdam
BEGIN:DAYLIGHT
TZOFFSETFROM:+0100
TZOFFSETTO:+0200
TZNAME:CEST
DTSTART:20180325T010000
END:DAYLIGHT
BEGIN:STANDARD
TZOFFSETFROM:+0200
TZOFFSETTO:+0100
TZNAME:CET
DTSTART:20181028T010000
END:STANDARD
END:VTIMEZONE
BEGIN:VEVENT
DTSTART;TZID=Europe/Amsterdam:20180624T130000
DTEND;TZID=Europe/Amsterdam:20180624T163000
DTSTAMP:20260423T031157
CREATED:20180607T095907Z
LAST-MODIFIED:20180607T095907Z
UID:1291-1529845200-1529857800@rangdrolling.nl
SUMMARY:Summer Soltice Sangha Dag
DESCRIPTION:start 13.00 uur.\nProgramma volgt
URL:https://rangdrolling.nl/event/summer-soltice-sangha-dag/
LOCATION:Randrolling\, Overbrakerpad 2\, Amsterdam\, 1014 AZ
CATEGORIES:Gezamenlijke beoefening,Sangha
END:VEVENT
END:VCALENDAR