BEGIN:VCALENDAR
VERSION:2.0
PRODID:-// - ECPv6.0.11//NONSGML v1.0//EN
CALSCALE:GREGORIAN
METHOD:PUBLISH
X-ORIGINAL-URL:https://rangdrolling.nl
X-WR-CALDESC:Events for 
REFRESH-INTERVAL;VALUE=DURATION:PT1H
X-Robots-Tag:noindex
X-PUBLISHED-TTL:PT1H
BEGIN:VTIMEZONE
TZID:Europe/Amsterdam
BEGIN:DAYLIGHT
TZOFFSETFROM:+0100
TZOFFSETTO:+0200
TZNAME:CEST
DTSTART:20180325T010000
END:DAYLIGHT
BEGIN:STANDARD
TZOFFSETFROM:+0200
TZOFFSETTO:+0100
TZNAME:CET
DTSTART:20181028T010000
END:STANDARD
END:VTIMEZONE
BEGIN:VEVENT
DTSTART;TZID=Europe/Amsterdam:20180831T190000
DTEND;TZID=Europe/Amsterdam:20180902T210000
DTSTAMP:20260422T104013
CREATED:20180801T143133Z
LAST-MODIFIED:20180801T143157Z
UID:1351-1535742000-1535922000@rangdrolling.nl
SUMMARY:Vajra Dance weekend with Stoffelina
DESCRIPTION:13:00 – 17:00 and 19:00 – 21:00\nLocatie: Broedplaats HW10
URL:https://rangdrolling.nl/event/vajra-dance-2-copy-copy-copy-copy-copy-3/
LOCATION:Broedplaats HW10\, Hendrik van Wijnstraat 10\, Amsterdam\, Nederland
CATEGORIES:Vajra Dans
END:VEVENT
BEGIN:VEVENT
DTSTART;TZID=Europe/Amsterdam:20180901T130000
DTEND;TZID=Europe/Amsterdam:20180901T170000
DTSTAMP:20260422T104013
CREATED:20180801T142725Z
LAST-MODIFIED:20180801T142742Z
UID:1345-1535806800-1535821200@rangdrolling.nl
SUMMARY:Vajra Dance weekend with Stoffelina
DESCRIPTION:13:00 – 17:00 and 19:00 – 21:00\nLocatie: Broedplaats HW10
URL:https://rangdrolling.nl/event/vajra-dance-2-copy-copy-copy-copy-copy-2/
LOCATION:Broedplaats HW10\, Hendrik van Wijnstraat 10\, Amsterdam\, Nederland
CATEGORIES:Vajra Dans
END:VEVENT
END:VCALENDAR