BEGIN:VCALENDAR
VERSION:2.0
PRODID:-// - ECPv6.0.11//NONSGML v1.0//EN
CALSCALE:GREGORIAN
METHOD:PUBLISH
X-ORIGINAL-URL:https://rangdrolling.nl
X-WR-CALDESC:Events for 
REFRESH-INTERVAL;VALUE=DURATION:PT1H
X-Robots-Tag:noindex
X-PUBLISHED-TTL:PT1H
BEGIN:VTIMEZONE
TZID:Europe/Amsterdam
BEGIN:DAYLIGHT
TZOFFSETFROM:+0100
TZOFFSETTO:+0200
TZNAME:CEST
DTSTART:20180325T010000
END:DAYLIGHT
BEGIN:STANDARD
TZOFFSETFROM:+0200
TZOFFSETTO:+0100
TZNAME:CET
DTSTART:20181028T010000
END:STANDARD
END:VTIMEZONE
BEGIN:VEVENT
DTSTART;TZID=Europe/Amsterdam:20181027T093000
DTEND;TZID=Europe/Amsterdam:20181027T123000
DTSTAMP:20260422T042146
CREATED:20180831T171446Z
LAST-MODIFIED:20181126T184158Z
UID:1373-1540632600-1540643400@rangdrolling.nl
SUMMARY:Vajra Dance
DESCRIPTION:Time: 9:30 to 12:30 pm \nLocation: Hatchery HW10
URL:https://rangdrolling.nl/event/vajra-dance-2-copy-copy-copy-copy-copy-copy-copy-copy-copy-copy/
LOCATION:Broedplaats HW10\, Hendrik van Wijnstraat 10\, Amsterdam\, Nederland
CATEGORIES:Vajra Dans
END:VEVENT
END:VCALENDAR