BEGIN:VCALENDAR
VERSION:2.0
PRODID:-// - ECPv6.0.11//NONSGML v1.0//EN
CALSCALE:GREGORIAN
METHOD:PUBLISH
X-ORIGINAL-URL:https://rangdrolling.nl
X-WR-CALDESC:Events for 
REFRESH-INTERVAL;VALUE=DURATION:PT1H
X-Robots-Tag:noindex
X-PUBLISHED-TTL:PT1H
BEGIN:VTIMEZONE
TZID:Europe/Amsterdam
BEGIN:DAYLIGHT
TZOFFSETFROM:+0100
TZOFFSETTO:+0200
TZNAME:CEST
DTSTART:20150329T010000
END:DAYLIGHT
BEGIN:STANDARD
TZOFFSETFROM:+0200
TZOFFSETTO:+0100
TZNAME:CET
DTSTART:20151025T010000
END:STANDARD
END:VTIMEZONE
BEGIN:VEVENT
DTSTART;TZID=Europe/Amsterdam:20151120T190000
DTEND;TZID=Europe/Amsterdam:20151120T210000
DTSTAMP:20260422T095903
CREATED:20151023T082755Z
LAST-MODIFIED:20151023T083044Z
UID:702-1448046000-1448053200@rangdrolling.nl
SUMMARY:SMS Base level studie- en beoefengroep
DESCRIPTION:Rangdrolling open vanaf 18.50 uur. Start om ongeveer 19.15 uur. \n 
URL:https://rangdrolling.nl/event/sms-base-level-studie-en-beoefengroep-2/
LOCATION:Randrolling\, Overbrakerpad 2\, Amsterdam\, 1014 AZ
CATEGORIES:Santi Maha Sangha
END:VEVENT
END:VCALENDAR