BEGIN:VCALENDAR
VERSION:2.0
PRODID:-// - ECPv6.0.11//NONSGML v1.0//EN
CALSCALE:GREGORIAN
METHOD:PUBLISH
X-ORIGINAL-URL:https://rangdrolling.nl
X-WR-CALDESC:Events for 
REFRESH-INTERVAL;VALUE=DURATION:PT1H
X-Robots-Tag:noindex
X-PUBLISHED-TTL:PT1H
BEGIN:VTIMEZONE
TZID:Europe/Amsterdam
BEGIN:DAYLIGHT
TZOFFSETFROM:+0100
TZOFFSETTO:+0200
TZNAME:CEST
DTSTART:20180325T010000
END:DAYLIGHT
BEGIN:STANDARD
TZOFFSETFROM:+0200
TZOFFSETTO:+0100
TZNAME:CET
DTSTART:20181028T010000
END:STANDARD
END:VTIMEZONE
BEGIN:VEVENT
DTSTART;TZID=Europe/Amsterdam:20180410T183000
DTEND;TZID=Europe/Amsterdam:20180410T190000
DTSTAMP:20260425T055606
CREATED:20180404T111045Z
LAST-MODIFIED:20180404T111045Z
UID:1218-1523385000-1523386800@rangdrolling.nl
SUMMARY:Dakini dag ganapuja
DESCRIPTION:ling open: 18.30 uur\nstart puja: 19.00 uur
URL:https://rangdrolling.nl/event/dakini-dag-ganapuja-4/
LOCATION:Randrolling\, Overbrakerpad 2\, Amsterdam\, 1014 AZ
CATEGORIES:Ganapuja
END:VEVENT
BEGIN:VEVENT
DTSTART;TZID=Europe/Amsterdam:20180425T190000
DTEND;TZID=Europe/Amsterdam:20180425T200000
DTSTAMP:20260425T055606
CREATED:20180404T112034Z
LAST-MODIFIED:20180404T112034Z
UID:1227-1524682800-1524686400@rangdrolling.nl
SUMMARY:Guru Rinpoche dag
DESCRIPTION:Ling is bezet!\nmail naar info@dzogchen.nl wanneer je deze puja hosten wilt
URL:https://rangdrolling.nl/event/guru-rinpoche-dag/
LOCATION:Nog niet bekend\, Amsterdam\, Nederland
CATEGORIES:Ganapuja
END:VEVENT
BEGIN:VEVENT
DTSTART;TZID=Europe/Amsterdam:20180429T150000
DTEND;TZID=Europe/Amsterdam:20180429T170000
DTSTAMP:20260425T055606
CREATED:20180404T112350Z
LAST-MODIFIED:20180404T112350Z
UID:1229-1525014000-1525021200@rangdrolling.nl
SUMMARY:Drajyor introductie door Maarten & volle maan Ganapuja
DESCRIPTION:Om drie uur geeft Maarten een introductie tot het Drajyor\, het systeem ontwikkeld\ndoor Rinpoche voor het correct uitspreken van Tibetaanse syllabes. \nDrajyor introductie van 15.00 tot 16.00 uur.\nwellicht is er nog webcast anders doen we de puja om 16.00 uur.
URL:https://rangdrolling.nl/event/drajyor-introductie-door-maarten-volle-maan-ganapuja/
LOCATION:Randrolling\, Overbrakerpad 2\, Amsterdam\, 1014 AZ
CATEGORIES:Ganapuja,Gezamenlijke beoefening
END:VEVENT
END:VCALENDAR