BEGIN:VCALENDAR
VERSION:2.0
PRODID:-// - ECPv6.0.11//NONSGML v1.0//EN
CALSCALE:GREGORIAN
METHOD:PUBLISH
X-ORIGINAL-URL:https://rangdrolling.nl
X-WR-CALDESC:Events for 
REFRESH-INTERVAL;VALUE=DURATION:PT1H
X-Robots-Tag:noindex
X-PUBLISHED-TTL:PT1H
BEGIN:VTIMEZONE
TZID:Europe/Amsterdam
BEGIN:DAYLIGHT
TZOFFSETFROM:+0100
TZOFFSETTO:+0200
TZNAME:CEST
DTSTART:20180325T010000
END:DAYLIGHT
BEGIN:STANDARD
TZOFFSETFROM:+0200
TZOFFSETTO:+0100
TZNAME:CET
DTSTART:20181028T010000
END:STANDARD
END:VTIMEZONE
BEGIN:VEVENT
DTSTART;TZID=Europe/Amsterdam:20180820T180000
DTEND;TZID=Europe/Amsterdam:20180820T193000
DTSTAMP:20260424T190546
CREATED:20180819T200339Z
LAST-MODIFIED:20180819T200339Z
UID:1358-1534788000-1534793400@rangdrolling.nl
SUMMARY:Guru Rinpoche GanaPuja
DESCRIPTION:GP is at Maja’s place\, Diemerplein 87\, above AH\, in Diemen. \nSince there was a change in public transport system in the end of July please check App 9292 first! \nBring your own offerings please. \narrival at: 18.00 uur\nstart puja: 18.30 uur
URL:https://rangdrolling.nl/event/guru-rinpoche-ganapuja-5/
LOCATION:Unnamed Venue\, Amsterdam\, Netherlands
CATEGORIES:Ganapuja
END:VEVENT
BEGIN:VEVENT
DTSTART;TZID=Europe/Amsterdam:20180826T183000
DTEND;TZID=Europe/Amsterdam:20180826T193000
DTSTAMP:20260424T190546
CREATED:20180819T200400Z
LAST-MODIFIED:20180819T200513Z
UID:1360-1535308200-1535311800@rangdrolling.nl
SUMMARY:Volle maan Ganapuja
DESCRIPTION:ling open: 18.30 uur\nstart puja: 19.00 uur 
URL:https://rangdrolling.nl/event/guru-rinpoche-ganapuja-5-copy/
LOCATION:Randrolling\, Overbrakerpad 2\, Amsterdam\, 1014 AZ
CATEGORIES:Ganapuja
END:VEVENT
END:VCALENDAR