BEGIN:VCALENDAR
VERSION:2.0
PRODID:-// - ECPv6.0.11//NONSGML v1.0//EN
CALSCALE:GREGORIAN
METHOD:PUBLISH
X-ORIGINAL-URL:https://rangdrolling.nl
X-WR-CALDESC:Events for 
REFRESH-INTERVAL;VALUE=DURATION:PT1H
X-Robots-Tag:noindex
X-PUBLISHED-TTL:PT1H
BEGIN:VTIMEZONE
TZID:Europe/Amsterdam
BEGIN:DAYLIGHT
TZOFFSETFROM:+0100
TZOFFSETTO:+0200
TZNAME:CEST
DTSTART:20180325T010000
END:DAYLIGHT
BEGIN:STANDARD
TZOFFSETFROM:+0200
TZOFFSETTO:+0100
TZNAME:CET
DTSTART:20181028T010000
END:STANDARD
END:VTIMEZONE
BEGIN:VEVENT
DTSTART;TZID=Europe/Amsterdam:20180210T180000
DTEND;TZID=Europe/Amsterdam:20180210T200000
DTSTAMP:20260425T143300
CREATED:20180203T184240Z
LAST-MODIFIED:20180203T184240Z
UID:1074-1518285600-1518292800@rangdrolling.nl
SUMMARY:Dakinidag Ganapuja
DESCRIPTION:ling open: 17.30 uur\nstart puja: 18.00 uur
URL:https://rangdrolling.nl/event/dakinidag-ganapuja/
LOCATION:Randrolling\, Overbrakerpad 2\, Amsterdam\, 1014 AZ
CATEGORIES:Ganapuja
END:VEVENT
END:VCALENDAR