BEGIN:VCALENDAR
VERSION:2.0
PRODID:-// - ECPv6.0.11//NONSGML v1.0//EN
CALSCALE:GREGORIAN
METHOD:PUBLISH
X-ORIGINAL-URL:https://rangdrolling.nl
X-WR-CALDESC:Events for 
REFRESH-INTERVAL;VALUE=DURATION:PT1H
X-Robots-Tag:noindex
X-PUBLISHED-TTL:PT1H
BEGIN:VTIMEZONE
TZID:Europe/Amsterdam
BEGIN:DAYLIGHT
TZOFFSETFROM:+0100
TZOFFSETTO:+0200
TZNAME:CEST
DTSTART:20180325T010000
END:DAYLIGHT
BEGIN:STANDARD
TZOFFSETFROM:+0200
TZOFFSETTO:+0100
TZNAME:CET
DTSTART:20181028T010000
END:STANDARD
END:VTIMEZONE
BEGIN:VEVENT
DTSTART;TZID=Europe/Amsterdam:20180311T140000
DTEND;TZID=Europe/Amsterdam:20180311T153000
DTSTAMP:20260425T143503
CREATED:20180309T210434Z
LAST-MODIFIED:20180309T210434Z
UID:1174-1520776800-1520782200@rangdrolling.nl
SUMMARY:Dakinidag Ganapuja en Dans van de 12 A's
DESCRIPTION:Deze zondag is het wereld Vajra Dans dag en Dakinidag.\nWe doen een Ganapuja en de dans van de 12 A’s. \nling open: 13.45 uur\nstart: 14.00 uur
URL:https://rangdrolling.nl/event/dakinidag-ganapuja-en-dans-van-de-12-as/
LOCATION:Randrolling\, Overbrakerpad 2\, Amsterdam\, 1014 AZ
CATEGORIES:Ganapuja
END:VEVENT
END:VCALENDAR