BEGIN:VCALENDAR
VERSION:2.0
PRODID:-// - ECPv6.0.11//NONSGML v1.0//EN
CALSCALE:GREGORIAN
METHOD:PUBLISH
X-ORIGINAL-URL:https://rangdrolling.nl
X-WR-CALDESC:Events for 
REFRESH-INTERVAL;VALUE=DURATION:PT1H
X-Robots-Tag:noindex
X-PUBLISHED-TTL:PT1H
BEGIN:VTIMEZONE
TZID:Europe/Amsterdam
BEGIN:DAYLIGHT
TZOFFSETFROM:+0100
TZOFFSETTO:+0200
TZNAME:CEST
DTSTART:20170326T010000
END:DAYLIGHT
BEGIN:STANDARD
TZOFFSETFROM:+0200
TZOFFSETTO:+0100
TZNAME:CET
DTSTART:20171029T010000
END:STANDARD
END:VTIMEZONE
BEGIN:VEVENT
DTSTART;TZID=Europe/Amsterdam:20170212T110000
DTEND;TZID=Europe/Amsterdam:20170212T140000
DTSTAMP:20260425T124317
CREATED:20170127T203042Z
LAST-MODIFIED:20170127T211354Z
UID:902-1486897200-1486908000@rangdrolling.nl
SUMMARY:S.M.S. Base groep
DESCRIPTION:Maandelijkse SMS Base studie en oefengroep. Alleen voor leden van Dzogchen Community met Transmissie van Chögyal Namkhai Norbu
URL:https://rangdrolling.nl/event/s-m-s-base-groep-2/
CATEGORIES:Gezamenlijke beoefening,Santi Maha Sangha
END:VEVENT
END:VCALENDAR